BEGIN:VCALENDAR
VERSION:2.0
PRODID:-//VALE - Virtual Academic Library Environment of New Jersey - ECPv6.15.20//NONSGML v1.0//EN
CALSCALE:GREGORIAN
METHOD:PUBLISH
X-ORIGINAL-URL:https://vale.njedge.net
X-WR-CALDESC:Events for VALE - Virtual Academic Library Environment of New Jersey
REFRESH-INTERVAL;VALUE=DURATION:PT1H
X-Robots-Tag:noindex
X-PUBLISHED-TTL:PT1H
BEGIN:VTIMEZONE
TZID:America/New_York
BEGIN:DAYLIGHT
TZOFFSETFROM:-0500
TZOFFSETTO:-0400
TZNAME:EDT
DTSTART:20170312T070000
END:DAYLIGHT
BEGIN:STANDARD
TZOFFSETFROM:-0400
TZOFFSETTO:-0500
TZNAME:EST
DTSTART:20171105T060000
END:STANDARD
BEGIN:DAYLIGHT
TZOFFSETFROM:-0500
TZOFFSETTO:-0400
TZNAME:EDT
DTSTART:20180311T070000
END:DAYLIGHT
BEGIN:STANDARD
TZOFFSETFROM:-0400
TZOFFSETTO:-0500
TZNAME:EST
DTSTART:20181104T060000
END:STANDARD
BEGIN:DAYLIGHT
TZOFFSETFROM:-0500
TZOFFSETTO:-0400
TZNAME:EDT
DTSTART:20190310T070000
END:DAYLIGHT
BEGIN:STANDARD
TZOFFSETFROM:-0400
TZOFFSETTO:-0500
TZNAME:EST
DTSTART:20191103T060000
END:STANDARD
BEGIN:DAYLIGHT
TZOFFSETFROM:-0500
TZOFFSETTO:-0400
TZNAME:EDT
DTSTART:20200308T070000
END:DAYLIGHT
BEGIN:STANDARD
TZOFFSETFROM:-0400
TZOFFSETTO:-0500
TZNAME:EST
DTSTART:20201101T060000
END:STANDARD
END:VTIMEZONE
BEGIN:VEVENT
DTSTART;TZID=America/New_York:20191205T123000
DTEND;TZID=America/New_York:20191205T143000
DTSTAMP:20260420T121742
CREATED:20190609T161822Z
LAST-MODIFIED:20190609T161822Z
UID:2738-1575549000-1575556200@vale.njedge.net
SUMMARY:Executive Committee meeting
DESCRIPTION:
URL:https://vale.njedge.net/event/executive-committee-meeting-5/
LOCATION:Rutgers University Alexander Library\, 169 College Ave\, New Brunswick\, NJ\, 08901
CATEGORIES:Executive Committee Meeting
END:VEVENT
BEGIN:VEVENT
DTSTART;TZID=America/New_York:20191114T143000
DTEND;TZID=America/New_York:20191114T163000
DTSTAMP:20260420T121742
CREATED:20191112T215235Z
LAST-MODIFIED:20191112T215235Z
UID:4070-1573741800-1573749000@vale.njedge.net
SUMMARY:Purchasing & Licensing Committee meeting
DESCRIPTION:
URL:https://vale.njedge.net/event/purchasing-licensing-committee-meeting/
LOCATION:Rutgers University Alexander Library\, 169 College Ave\, New Brunswick\, NJ\, 08901
CATEGORIES:Executive Committee Meeting
END:VEVENT
BEGIN:VEVENT
DTSTART;TZID=America/New_York:20191024T123000
DTEND;TZID=America/New_York:20191024T143000
DTSTAMP:20260420T121742
CREATED:20190609T161625Z
LAST-MODIFIED:20190609T161625Z
UID:2737-1571920200-1571927400@vale.njedge.net
SUMMARY:Executive Committee meeting
DESCRIPTION:
URL:https://vale.njedge.net/event/executive-committee-meeting-4/
LOCATION:Rutgers University Alexander Library\, 169 College Ave\, New Brunswick\, NJ\, 08901
CATEGORIES:Executive Committee Meeting
END:VEVENT
BEGIN:VEVENT
DTSTART;TZID=America/New_York:20190927T130000
DTEND;TZID=America/New_York:20190927T150000
DTSTAMP:20260420T121742
CREATED:20190609T161453Z
LAST-MODIFIED:20190806T151412Z
UID:2735-1569589200-1569596400@vale.njedge.net
SUMMARY:Executive Committee meeting
DESCRIPTION:
URL:https://vale.njedge.net/event/executive-committee-meeting-3/
LOCATION:The College of New Jersey\, 2000 Pennington Rd.\, Ewing\, NJ\, 08618\, United States
CATEGORIES:Executive Committee Meeting
END:VEVENT
BEGIN:VEVENT
DTSTART;TZID=America/New_York:20190927T090000
DTEND;TZID=America/New_York:20190927T120000
DTSTAMP:20260420T121742
CREATED:20190609T161225Z
LAST-MODIFIED:20190806T151330Z
UID:2734-1569574800-1569585600@vale.njedge.net
SUMMARY:Members Council meeting
DESCRIPTION:
URL:https://vale.njedge.net/event/members-council-meeting-2/
LOCATION:The College of New Jersey\, 2000 Pennington Rd.\, Ewing\, NJ\, 08618\, United States
CATEGORIES:Executive Committee Meeting
END:VEVENT
BEGIN:VEVENT
DTSTART;TZID=America/New_York:20190711T123000
DTEND;TZID=America/New_York:20190711T143000
DTSTAMP:20260420T121742
CREATED:20180718T140846Z
LAST-MODIFIED:20180720T131707Z
UID:1439-1562848200-1562855400@vale.njedge.net
SUMMARY:Executive Committee meeting
DESCRIPTION:
URL:https://vale.njedge.net/event/vale-executive-committee-5/
LOCATION:Rutgers University Alexander Library\, 169 College Ave\, New Brunswick\, NJ\, 08901
CATEGORIES:Executive Committee Meeting
END:VEVENT
BEGIN:VEVENT
DTSTART;TZID=America/New_York:20190606T130000
DTEND;TZID=America/New_York:20190606T150000
DTSTAMP:20260420T121742
CREATED:20180720T132848Z
LAST-MODIFIED:20190603T191248Z
UID:1452-1559826000-1559833200@vale.njedge.net
SUMMARY:Executive Committee meeting
DESCRIPTION:
URL:https://vale.njedge.net/event/executive-committee-meeting-2/
LOCATION:New Jersey Institute of Technology\, 323 Dr Martin Luther King Jr Blvd.\, Newark\, NJ\, 07102\, United States
CATEGORIES:Executive Committee Meeting
END:VEVENT
BEGIN:VEVENT
DTSTART;TZID=America/New_York:20190606T090000
DTEND;TZID=America/New_York:20190606T120000
DTSTAMP:20260420T121742
CREATED:20180720T130345Z
LAST-MODIFIED:20190524T182148Z
UID:1447-1559811600-1559822400@vale.njedge.net
SUMMARY:Members Council meeting
DESCRIPTION:The meeting will take place at the New Jersey Institute of Technology (NJIT)\, Central King Building (CKB)\, Room 116.\nSee Driving and Public Transportation Directions.\n\nFree parking is available in the NJIT Parking Deck. All participant names have been added to the parking guest list\, so if the gate is down\, press the call/help button and give them your name.\n\nSee campus map with CKB\, Parking Deck and Light Rail station circled.
URL:https://vale.njedge.net/event/members-council-meeting/
LOCATION:NJIT Central King Building\, 100 Summit St.\, Newark\, NJ\, NJ\, 07103\, United States
CATEGORIES:Executive Committee Meeting
ORGANIZER;CN="":MAILTO:melissa.lena@njedge.net
END:VEVENT
BEGIN:VEVENT
DTSTART;TZID=America/New_York:20190404T123000
DTEND;TZID=America/New_York:20190404T143000
DTSTAMP:20260420T121742
CREATED:20180718T140640Z
LAST-MODIFIED:20190205T180851Z
UID:1438-1554381000-1554388200@vale.njedge.net
SUMMARY:Executive Committee meeting
DESCRIPTION:
URL:https://vale.njedge.net/event/vale-executive-committee-4/
LOCATION:Rutgers University Alexander Library\, 169 College Ave\, New Brunswick\, NJ\, 08901
CATEGORIES:Executive Committee Meeting
END:VEVENT
BEGIN:VEVENT
DTSTART;TZID=America/New_York:20190307T123000
DTEND;TZID=America/New_York:20190307T143000
DTSTAMP:20260420T121742
CREATED:20180718T140544Z
LAST-MODIFIED:20190205T180707Z
UID:1437-1551961800-1551969000@vale.njedge.net
SUMMARY:Executive Committee meeting
DESCRIPTION:
URL:https://vale.njedge.net/event/vale-executive-committee-3/
LOCATION:Rutgers University Alexander Library\, 169 College Ave\, New Brunswick\, NJ\, 08901
CATEGORIES:Executive Committee Meeting
END:VEVENT
BEGIN:VEVENT
DTSTART;TZID=America/New_York:20190201T120000
DTEND;TZID=America/New_York:20190201T140000
DTSTAMP:20260420T121742
CREATED:20180720T132751Z
LAST-MODIFIED:20180720T132751Z
UID:1451-1549022400-1549029600@vale.njedge.net
SUMMARY:Executive Committee meeting
DESCRIPTION:
URL:https://vale.njedge.net/event/executive-committee-meeting/
LOCATION:Mercer County Community College\, 1200 Old Trenton Rd\, West Windsor\, 08550\, United States
CATEGORIES:Executive Committee Meeting
END:VEVENT
BEGIN:VEVENT
DTSTART;TZID=America/New_York:20190201T090000
DTEND;TZID=America/New_York:20190201T120000
DTSTAMP:20260420T121742
CREATED:20180720T125705Z
LAST-MODIFIED:20180720T131114Z
UID:1444-1549011600-1549022400@vale.njedge.net
SUMMARY:Members Council meeting
DESCRIPTION:
URL:https://vale.njedge.net/event/members-council-2/
LOCATION:Mercer County Community College\, 1200 Old Trenton Rd\, West Windsor\, NJ\, 08550\, United States
CATEGORIES:Executive Committee Meeting
END:VEVENT
BEGIN:VEVENT
DTSTART;TZID=America/New_York:20181206T123000
DTEND;TZID=America/New_York:20181206T143000
DTSTAMP:20260420T121742
CREATED:20180718T140344Z
LAST-MODIFIED:20180720T131812Z
UID:1436-1544099400-1544106600@vale.njedge.net
SUMMARY:Executive Committee meeting
DESCRIPTION:
URL:https://vale.njedge.net/event/vale-executive-committee-2/
LOCATION:Rutgers University Alexander Library\, 169 College Ave\, New Brunswick\, NJ\, 08901
CATEGORIES:Executive Committee Meeting
END:VEVENT
BEGIN:VEVENT
DTSTART;TZID=America/New_York:20181025T123000
DTEND;TZID=America/New_York:20181025T143000
DTSTAMP:20260420T121742
CREATED:20180718T135923Z
LAST-MODIFIED:20180720T131826Z
UID:1434-1540470600-1540477800@vale.njedge.net
SUMMARY:Executive Committee meeting
DESCRIPTION:
URL:https://vale.njedge.net/event/vale-executive-committee/
LOCATION:Rutgers University Alexander Library\, 169 College Ave\, New Brunswick\, NJ\, 08901
CATEGORIES:Executive Committee Meeting
END:VEVENT
BEGIN:VEVENT
DTSTART;TZID=America/New_York:20180921T120000
DTEND;TZID=America/New_York:20180921T140000
DTSTAMP:20260420T121742
CREATED:20180720T131432Z
LAST-MODIFIED:20180808T145118Z
UID:1448-1537531200-1537538400@vale.njedge.net
SUMMARY:Executive Committee meeting
DESCRIPTION:Monmouth University\nSamuel Hays Magill Commons\, Rooms 107 &108 \n400 Cedar Avenue\nWest Long Branch\, NJ 07764 \nhttps://www.monmouth.edu/map/#location/commons-club
URL:https://vale.njedge.net/event/executive-committee/
LOCATION:Monmouth University\, 400 Cedar Ave.\, West Long Branch\, NJ\, 07764\, United States
CATEGORIES:Executive Committee Meeting
END:VEVENT
BEGIN:VEVENT
DTSTART;TZID=America/New_York:20180921T090000
DTEND;TZID=America/New_York:20180921T120000
DTSTAMP:20260420T121742
CREATED:20180719T201508Z
LAST-MODIFIED:20180808T145011Z
UID:1443-1537520400-1537531200@vale.njedge.net
SUMMARY:Members Council meeting
DESCRIPTION:Monmouth University\nSamuel Hays Magill Commons\, Rooms 107 &108 \n400 Cedar Avenue\nWest Long Branch\, NJ 07764 \nhttps://www.monmouth.edu/map/#location/commons-club
URL:https://vale.njedge.net/event/members-council/
LOCATION:Monmouth University\, 400 Cedar Ave.\, West Long Branch\, NJ\, 07764\, United States
CATEGORIES:Executive Committee Meeting
END:VEVENT
END:VCALENDAR